BEGIN:VCALENDAR
VERSION:2.0
PRODID:-//ChamberMaster//Event Calendar 2.0//EN
METHOD:PUBLISH
X-PUBLISHED-TTL:P1H
REFRESH-INTERVAL:P1H
CALSCALE:GREGORIAN
BEGIN:VTIMEZONE
TZID:America/New_York
BEGIN:DAYLIGHT
RRULE:FREQ=YEARLY;BYMONTH=3;BYDAY=2SU
DTSTART:20070101T000000
TZOFFSETFROM:-0500
TZOFFSETTO:-0400
TZNAME:Eastern Daylight Time
END:DAYLIGHT
BEGIN:STANDARD
RRULE:FREQ=YEARLY;BYMONTH=11;BYDAY=1SU
DTSTART:20070101T000000
TZOFFSETFROM:-0400
TZOFFSETTO:-0500
TZNAME:Eastern Standard Time
END:STANDARD
END:VTIMEZONE
BEGIN:VEVENT
DTSTART;TZID=America/New_York:20260605T183000
DTEND;TZID=America/New_York:20260605T210000
X-MICROSOFT-CDO-ALLDAYEVENT:FALSE
SUMMARY:Mini Glam Jam- A Grown Up & Me Creative Social
DESCRIPTION:Join us for a special Grown-Up & Me night filled with fun\, bonding\, and creativity! Enjoy crafts\, games\, karaoke\, and interactive stations including hat decorating\, ice cream bar and an etiquette & tea party experience. It's the perfect evening to relax\, connect\, and make unforgettable memories together!Tickets: https://www.eventeny.com/events/miniglamjamagrownupmecreativesocial-29888
X-ALT-DESC;FMTTYPE=text/html:<!DOCTYPE html><html><head><title></title></head><body aria-disabled="false"><p>Join us for a special Grown-Up &amp\; Me night filled with fun\, bonding\, and creativity! Enjoy crafts\, games\, karaoke\, and interactive stations including hat decorating\, ice cream bar and an etiquette &amp\; tea party experience. It&rsquo\;s the perfect evening to relax\, connect\, and make unforgettable memories together!</p><p>Tickets:&nbsp\;<a fr-original-style="" href="https://www.eventeny.com/events/miniglamjamagrownupmecreativesocial-29888" style="user-select: auto\;">https://www.eventeny.com/events/miniglamjamagrownupmecreativesocial-29888</a></p></body></html>
LOCATION:202 Circle Park Dr Sebring FL 33870
UID:e.2216.1447479
SEQUENCE:3
DTSTAMP:20260424T192250Z
URL:https://business.sebring.org/events/Details/mini-glam-jam-a-grown-up-me-creative-social-1714421?sourceTypeId=Hub
END:VEVENT
END:VCALENDAR
